{"text_format":"1","workbook":"xlsx","n_sheets":8,"sheets":["1団体目","2団体目","3団体目","4団体目","1団体目　アンコン申込書","2団体目　アンコン申込書","3団体目　アンコン申込書","4団体目　アンコン申込書"],"not_rendered":{"charts":0,"images":0,"macros":1,"external_links":0,"defined_names":8,"comments":0,"pivot_tables":0},"unopened":[],"bounds":{"document_bytes":16777216,"sheet_cells":100000,"rows_first":2000,"rows_last":500,"rows_between":2000,"halvings":0,"cell_chars":16384,"cell_head_chars":4096},"cells_cut":0,"cells_raw":0,"read":"whole","date_system":"1900"}

{"sheet":"1団体目","index":0,"n_rows":71,"n_cols":12,"rows_kept":71,"cut":false,"hidden":false,"merged":[[35,2,35,3],[36,2,36,3],[8,2,8,5],[9,2,9,5],[22,2,22,3],[24,2,24,3],[25,2,25,3],[26,2,26,3],[27,2,27,3],[13,2,13,3],[14,2,14,3],[15,2,15,3],[19,2,19,3],[20,2,20,3],[30,2,30,3],[26,4,26,6],[15,1,27,1],[19,4,19,10],[20,4,20,10],[21,4,21,10],[27,4,27,10],[26,7,26,8],[26,9,26,10],[22,4,22,10],[24,4,24,10],[25,4,25,10],[23,2,23,3],[16,2,16,3],[17,2,17,3],[21,2,21,3],[18,2,18,3],[28,1,36,1],[29,5,29,10],[30,5,30,10],[31,5,31,10],[32,5,32,10],[33,5,33,10],[34,5,34,10],[35,5,35,10],[36,5,36,10],[28,5,28,10],[28,2,28,4],[29,2,29,3],[31,2,31,3],[32,2,32,3],[33,2,33,3],[34,2,34,3],[1,1,1,11],[11,1,14,1],[12,4,12,10],[4,2,4,3],[7,2,7,7],[11,2,11,3],[12,2,12,3],[5,2,5,4],[6,2,6,7],[10,7,10,16],[8,6,8,14],[33,11,33,19],[20,11,20,19],[9,6,9,14],[19,11,19,19],[16,4,16,14],[15,4,15,15],[32,11,32,19],[31,11,31,19],[29,11,30,19],[21,11,21,19],[22,11,22,19],[24,11,24,19],[25,11,25,19],[26,11,26,19],[27,11,27,19],[23,7,23,19]]}
[]
[null,"１団体目　\nアンコン申込書入力シート"]
[null,"※色のついている枠にご記入ください。"]
[null,null,null,null,null,null,null,null,null,"〇必要事項を記入したら、下のボタンを押してください"]
[null,"地区"]
[null,"部門"]
[null,"ふりがな"]
[null,"団体名"]
[null,"代表者\n（校長）",null,null,null,null,"※大学、職場・一般団体は団体代表者（団長等）を記入してください。\n※姓名の間を全角スペースで１字空けてください。"]
[null,"連絡責任者\n（部顧問）",null,null,null,null,"※大学、職場・一般団体は団体代表者（団長等）を記入してください。\n※姓名の間を全角スペースで１字空けてください。"]
[null,"携帯番号",null,"-",null,"-",null,"※確実に通じる携帯番号を記入ください。"]
[null,"連絡先\n（学校住所）","郵便番号",null,null,"-"]
[null,null,"住所"]
[null,null,"電話番号",null,null,"-",null,"-"]
[null,null,"FAX番号",null,null,"-",null,"-"]
[null,"演奏形態","編成",null,"※編成名「混合」「混成」は使用しない。「管楽」あるいは「管打」に置き換えてください。"]
[null,null,null,null,"記入例：金管、木管、打楽器、管楽、管打楽器、クラリネット、サクソフォンなど"]
[null,null,"人数"]
[]
[null,null,"曲名\n（邦題名）",null,null,null,null,null,null,null,null,"※組曲の抜粋部分や交響曲の楽章等は､全部必ず明記してください｡→ ･･より“ \"“ \"　\n（例）バレエ組曲「青銅の騎士」より　1.広場での踊り　3.踊りの場面　8.偉大なる都市への賛歌"]
[null,null,"曲名\n（英字）",null,null,null,null,null,null,null,null,"※半角入力をしてください。\n　英字表記は著作権申請時必要となります。必ずご記入ください。"]
[null,null,"作曲者",null,null,null,null,null,null,null,null,"※外国人名はﾌｧｰｽﾄ･ﾈｰﾑの頭文字だけアルファベットで､あとはカタカナで書いてください｡\n（例）S.ラフマニノフ　J.B.チャンス　R.W.スミス"]
[null,null,"作曲者\n（英字）",null,null,null,null,null,null,null,null,"※半角入力をしてください。邦人名はHirokazu Fukushimaなど、名→姓の順で記入してください。\n　英字表記は著作権申請時必要となります。必ずご記入ください。"]
[null,null,"作曲者生没年",null,null,"-",null,"※上位大会では必須になります。やむを得ず不明な場合を除いて、必ず記入してください。"]
[null,null,"編曲者",null,null,null,null,null,null,null,null,"※外国人名はﾌｧｰｽﾄ･ﾈｰﾑの頭文字だけアルファベットで､あとはカタカナで書いてください｡\n（例）S.ラフマニノフ　J.B.チャンス　R.W.スミス"]
[null,null,"編曲者\n（英字）",null,null,null,null,null,null,null,null,"※半角入力をしてください。邦人名はHirokazu Fukushimaなど、名→姓の順で記入してください。\n　英字表記は著作権申請時必要となります。必ずご記入ください。"]
[null,null,"楽譜出版社",null,null,null,null,"演奏許諾",null,null,null,"※国内出版社はブレーン、ウィンズスコア、カフア、全音など日本語で\n　海外出版社はde haske、C.Alanなど英字で記入してください。"]
[null,null,"許諾先",null,null,null,null,null,null,null,null,"※許諾先は、演奏許諾の欄が「未出版楽譜」のときのみ入力してください"]
[null,"出演者","パート",null,null,"氏名"]
[null,null,"①",null,null,null,null,null,null,null,null,"※パートは、原則としてリストから選んでください。\n　リストにパートがないときのみ、手入力してください。"]
[null,null,"②"]
[null,null,"③",null,null,null,null,null,null,null,null,"※出演者氏名はこの申込書の通りに県大会のプログラムに記載致しますので、\n　漢字の間違い等にご注意ください。"]
[null,null,"④",null,null,null,null,null,null,null,null,"※姓名の間を全角スペースで１字空けてください。"]
[null,null,"⑤",null,null,null,null,null,null,null,null,"※外字を含む名前でも、外字は使用せず、略字で記入してください。"]
[null,null,"⑥"]
[null,null,"⑦"]
[null,null,"⑧"]
[]
[]
[null,null,null,null,"Picc."]
[null,null,null,null,"Fl."]
[null,null,null,null,"Picc.＆Fl."]
[null,null,null,null,"A.Fl."]
[null,null,null,null,"B.Fl."]
[null,null,null,null,"Ob."]
[null,null,null,null,"E.Hn."]
[null,null,null,null,"Bsn."]
[null,null,null,null,"E♭Cl."]
[null,null,null,null,"Cl."]
[null,null,null,null,"A.Cl."]
[null,null,null,null,"B.Cl."]
[null,null,null,null,"C.B.Cl."]
[null,null,null,null,"S.Sax."]
[null,null,null,null,"A.Sax."]
[null,null,null,null,"S.Sax.&A.Sax."]
[null,null,null,null,"T.Sax."]
[null,null,null,null,"Br.Sax."]
[null,null,null,null,"Tp."]
[null,null,null,null,"Cor."]
[null,null,null,null,"Picc.Tp."]
[null,null,null,null,"Fg.Hn."]
[null,null,null,null,"Picc.Tp.&Tp."]
[null,null,null,null,"Tp.&Fg.Hn."]
[null,null,null,null,"Hn."]
[null,null,null,null,"Tb."]
[null,null,null,null,"B.Tb."]
[null,null,null,null,"Euph."]
[null,null,null,null,"Tub."]
[null,null,null,null,"St.Bs."]
[null,null,null,null,"Perc."]
[null,null,null,null,"Mari."]

{"sheet":"2団体目","index":1,"n_rows":37,"n_cols":12,"rows_kept":37,"cut":false,"hidden":false,"merged":[[32,11,32,19],[8,2,8,5],[8,6,8,14],[1,1,1,11],[4,2,4,3],[5,2,5,4],[6,2,6,7],[7,2,7,7],[9,2,9,5],[9,6,9,14],[10,7,10,16],[11,1,14,1],[11,2,11,3],[12,2,12,3],[12,4,12,10],[13,2,13,3],[14,2,14,3],[15,1,27,1],[15,2,15,3],[15,4,15,15],[16,2,16,3],[16,4,16,14],[17,2,17,3],[18,2,18,3],[19,2,19,3],[19,4,19,10],[19,11,19,19],[24,2,24,3],[24,4,24,10],[24,11,24,19],[20,2,20,3],[20,4,20,10],[20,11,20,19],[21,2,21,3],[21,4,21,10],[21,11,21,19],[22,2,22,3],[22,4,22,10],[22,11,22,19],[26,11,26,19],[27,11,27,19],[23,2,23,3],[23,7,23,13],[25,2,25,3],[25,4,25,10],[25,11,25,19],[26,2,26,3],[26,4,26,6],[26,7,26,8],[26,9,26,10],[27,2,27,3],[27,4,27,10],[30,2,30,3],[30,5,30,10],[31,2,31,3],[31,5,31,10],[29,11,30,19],[31,11,31,19],[33,11,33,19],[28,1,36,1],[28,2,28,4],[28,5,28,10],[29,2,29,3],[29,5,29,10],[35,2,35,3],[35,5,35,10],[36,2,36,3],[36,5,36,10],[32,2,32,3],[32,5,32,10],[33,2,33,3],[33,5,33,10],[34,2,34,3],[34,5,34,10]]}
[]
[null,"２団体目　\nアンコン申込書入力シート"]
[null,"※色のついている枠にご記入ください。"]
[null,null,null,null,null,null,null,null,null,"〇必要事項を記入したら、下のボタンを押してください"]
[null,"地区",{"$f":"'1団体目'!C5:D5","v":0}]
[null,"部門",{"$f":"'1団体目'!C6:E6","v":0}]
[null,"ふりがな",{"$f":"'1団体目'!C7:H7","v":0}]
[null,"団体名",{"$f":"'1団体目'!C8:H8","v":0}]
[null,"代表者\n（校長）",{"$f":"'1団体目'!C9:F9","v":0},null,null,null,"※大学、職場・一般団体は団体代表者（団長等）を記入してください。\n※姓名の間を全角スペースで１字空けてください。"]
[null,"連絡責任者\n（部顧問）",{"$f":"'1団体目'!C10:F10","v":0},null,null,null,"※大学、職場・一般団体は団体代表者（団長等）を記入してください。\n※姓名の間を全角スペースで１字空けてください。"]
[null,"携帯番号",{"$f":"'1団体目'!C11","v":0},"-",{"$f":"'1団体目'!E11","v":0},"-",{"$f":"'1団体目'!G11","v":0},"※確実に通じる携帯番号を記入ください。"]
[null,"連絡先\n（学校住所）","郵便番号",null,{"$f":"'1団体目'!E12","v":0},"-",{"$f":"'1団体目'!G12","v":0}]
[null,null,"住所",null,{"$f":"'1団体目'!E13:K13","v":0}]
[null,null,"電話番号",null,{"$f":"'1団体目'!E14","v":0},"-",{"$f":"'1団体目'!G14","v":0},"-",{"$f":"'1団体目'!I14","v":0}]
[null,null,"FAX番号",null,{"$f":"'1団体目'!E15","v":0},"-",{"$f":"'1団体目'!G15","v":0},"-",{"$f":"'1団体目'!I15","v":0}]
[null,"演奏形態","編成",null,"※編成名「混合」「混成」は使用しない。「管楽」あるいは「管打」に置き換えてください。"]
[null,null,null,null,"記入例：金管、木管、打楽器、管楽、管打楽器、クラリネット、サクソフォンなど"]
[null,null,"人数"]
[]
[null,null,"曲名\n（邦題名）",null,null,null,null,null,null,null,null,"※組曲の抜粋部分や交響曲の楽章等は､全部必ず明記してください｡→ ･･より“ \"“ \"　\n（例）バレエ組曲「青銅の騎士」より　1.広場での踊り　3.踊りの場面　8.偉大なる都市への賛歌"]
[null,null,"曲名\n（英字）",null,null,null,null,null,null,null,null,"※半角入力をしてください。\n　英字表記は著作権申請時必要となります。必ずご記入ください。"]
[null,null,"作曲者",null,null,null,null,null,null,null,null,"※外国人名はﾌｧｰｽﾄ･ﾈｰﾑの頭文字だけアルファベットで､あとはカタカナで書いてください｡\n（例）S.ラフマニノフ　J.B.チャンス　R.W.スミス"]
[null,null,"作曲者\n（英字）",null,null,null,null,null,null,null,null,"※半角入力をしてください。邦人名はHirokazu Fukushimaなど、名→姓の順で記入してください。\n　英字表記は著作権申請時必要となります。必ずご記入ください。"]
[null,null,"作曲者生没年",null,null,"-",null,"※必ず記入してください。"]
[null,null,"編曲者",null,null,null,null,null,null,null,null,"※外国人名はﾌｧｰｽﾄ･ﾈｰﾑの頭文字だけアルファベットで､あとはカタカナで書いてください｡\n（例）S.ラフマニノフ　J.B.チャンス　R.W.スミス"]
[null,null,"編曲者\n（英字）",null,null,null,null,null,null,null,null,"※半角入力をしてください。邦人名はHirokazu Fukushimaなど、名→姓の順で記入してください。\n　英字表記は著作権申請時必要となります。必ずご記入ください。"]
[null,null,"楽譜出版社",null,null,null,null,"演奏許諾",null,null,null,"※国内出版社はブレーン、ウィンズスコア、カフア、全音など日本語で\n　海外出版社はde haske、C.Alanなど英字で記入してください。"]
[null,null,"許諾先",null,null,null,null,null,null,null,null,"※許諾先は、演奏許諾の欄が「未出版楽譜」のときのみ入力してください"]
[null,"出演者","パート",null,null,"氏名"]
[null,null,"①",null,null,null,null,null,null,null,null,"※パートは、原則としてリストから選んでください。\n　リストにパートがないときのみ、手入力してください。"]
[null,null,"②"]
[null,null,"③",null,null,null,null,null,null,null,null,"※出演者氏名はこの申込書の通りに県大会のプログラムに記載致しますので、\n　漢字の間違い等にご注意ください。"]
[null,null,"④",null,null,null,null,null,null,null,null,"※姓名の間を全角スペースで１字空けてください。"]
[null,null,"⑤",null,null,null,null,null,null,null,null,"※外字を含む名前でも、外字は使用せず、略字で記入してください。"]
[null,null,"⑥"]
[null,null,"⑦"]
[null,null,"⑧"]

{"sheet":"3団体目","index":2,"n_rows":37,"n_cols":12,"rows_kept":37,"cut":false,"hidden":false,"merged":[[32,11,32,19],[8,2,8,5],[8,6,8,14],[1,1,1,11],[4,2,4,3],[5,2,5,4],[6,2,6,7],[7,2,7,7],[9,2,9,5],[9,6,9,14],[10,7,10,16],[11,1,14,1],[11,2,11,3],[12,2,12,3],[12,4,12,10],[13,2,13,3],[14,2,14,3],[15,1,27,1],[15,2,15,3],[15,4,15,15],[16,2,16,3],[16,4,16,14],[17,2,17,3],[18,2,18,3],[19,2,19,3],[19,4,19,10],[19,11,19,19],[24,2,24,3],[24,4,24,10],[24,11,24,19],[20,2,20,3],[20,4,20,10],[20,11,20,19],[21,2,21,3],[21,4,21,10],[21,11,21,19],[22,2,22,3],[22,4,22,10],[22,11,22,19],[26,11,26,19],[27,11,27,19],[23,2,23,3],[23,7,23,13],[25,2,25,3],[25,4,25,10],[25,11,25,19],[26,2,26,3],[26,4,26,6],[26,7,26,8],[26,9,26,10],[27,2,27,3],[27,4,27,10],[30,2,30,3],[30,5,30,10],[31,2,31,3],[31,5,31,10],[29,11,30,19],[31,11,31,19],[33,11,33,19],[28,1,36,1],[28,2,28,4],[28,5,28,10],[29,2,29,3],[29,5,29,10],[35,2,35,3],[35,5,35,10],[36,2,36,3],[36,5,36,10],[32,2,32,3],[32,5,32,10],[33,2,33,3],[33,5,33,10],[34,2,34,3],[34,5,34,10]]}
[]
[null,"３団体目　\nアンコン申込書入力シート"]
[null,"※色のついている枠にご記入ください。"]
[null,null,null,null,null,null,null,null,null,"〇必要事項を記入したら、下のボタンを押してください"]
[null,"地区",{"$f":"'1団体目'!C5:D5","v":0}]
[null,"部門",{"$f":"'1団体目'!C6:E6","v":0}]
[null,"ふりがな",{"$f":"'1団体目'!C7:H7","v":0}]
[null,"団体名",{"$f":"'1団体目'!C8:H8","v":0}]
[null,"代表者\n（校長）",{"$f":"'1団体目'!C9:F9","v":0},null,null,null,"※大学、職場・一般団体は団体代表者（団長等）を記入してください。\n※姓名の間を全角スペースで１字空けてください。"]
[null,"連絡責任者\n（部顧問）",{"$f":"'1団体目'!C10:F10","v":0},null,null,null,"※大学、職場・一般団体は団体代表者（団長等）を記入してください。\n※姓名の間を全角スペースで１字空けてください。"]
[null,"携帯番号",{"$f":"'1団体目'!C11","v":0},"-",{"$f":"'1団体目'!E11","v":0},"-",{"$f":"'1団体目'!G11","v":0},"※確実に通じる携帯番号を記入ください。"]
[null,"連絡先\n（学校住所）","郵便番号",null,{"$f":"'1団体目'!E12","v":0},"-",{"$f":"'1団体目'!G12","v":0}]
[null,null,"住所",null,{"$f":"'1団体目'!E13:K13","v":0}]
[null,null,"電話番号",null,{"$f":"'1団体目'!E14","v":0},"-",{"$f":"'1団体目'!G14","v":0},"-",{"$f":"'1団体目'!I14","v":0}]
[null,null,"FAX番号",null,{"$f":"'1団体目'!E15","v":0},"-",{"$f":"'1団体目'!G15","v":0},"-",{"$f":"'1団体目'!I15","v":0}]
[null,"演奏形態","編成",null,"※編成名「混合」「混成」は使用しない。「管楽」あるいは「管打」に置き換えてください。"]
[null,null,null,null,"記入例：金管、木管、打楽器、管楽、管打楽器、クラリネット、サクソフォンなど"]
[null,null,"人数"]
[]
[null,null,"曲名\n（邦題名）",null,null,null,null,null,null,null,null,"※組曲の抜粋部分や交響曲の楽章等は､全部必ず明記してください｡→ ･･より“ \"“ \"　\n（例）バレエ組曲「青銅の騎士」より　1.広場での踊り　3.踊りの場面　8.偉大なる都市への賛歌"]
[null,null,"曲名\n（英字）",null,null,null,null,null,null,null,null,"※半角入力をしてください。\n　英字表記は著作権申請時必要となります。必ずご記入ください。"]
[null,null,"作曲者",null,null,null,null,null,null,null,null,"※外国人名はﾌｧｰｽﾄ･ﾈｰﾑの頭文字だけアルファベットで､あとはカタカナで書いてください｡\n（例）S.ラフマニノフ　J.B.チャンス　R.W.スミス"]
[null,null,"作曲者\n（英字）",null,null,null,null,null,null,null,null,"※半角入力をしてください。邦人名はHirokazu Fukushimaなど、名→姓の順で記入してください。\n　英字表記は著作権申請時必要となります。必ずご記入ください。"]
[null,null,"作曲者生没年",null,null,"-",null,"※必ず記入してください。"]
[null,null,"編曲者",null,null,null,null,null,null,null,null,"※外国人名はﾌｧｰｽﾄ･ﾈｰﾑの頭文字だけアルファベットで､あとはカタカナで書いてください｡\n（例）S.ラフマニノフ　J.B.チャンス　R.W.スミス"]
[null,null,"編曲者\n（英字）",null,null,null,null,null,null,null,null,"※半角入力をしてください。邦人名はHirokazu Fukushimaなど、名→姓の順で記入してください。\n　英字表記は著作権申請時必要となります。必ずご記入ください。"]
[null,null,"楽譜出版社",null,null,null,null,"演奏許諾",null,null,null,"※国内出版社はブレーン、ウィンズスコア、カフア、全音など日本語で\n　海外出版社はde haske、C.Alanなど英字で記入してください。"]
[null,null,"許諾先",null,null,null,null,null,null,null,null,"※許諾先は、演奏許諾の欄が「未出版楽譜」のときのみ入力してください"]
[null,"出演者","パート",null,null,"氏名"]
[null,null,"①",null,null,null,null,null,null,null,null,"※パートは、原則としてリストから選んでください。\n　リストにパートがないときのみ、手入力してください。"]
[null,null,"②"]
[null,null,"③",null,null,null,null,null,null,null,null,"※出演者氏名はこの申込書の通りに県大会のプログラムに記載致しますので、\n　漢字の間違い等にご注意ください。"]
[null,null,"④",null,null,null,null,null,null,null,null,"※姓名の間を全角スペースで１字空けてください。"]
[null,null,"⑤",null,null,null,null,null,null,null,null,"※外字を含む名前でも、外字は使用せず、略字で記入してください。"]
[null,null,"⑥"]
[null,null,"⑦"]
[null,null,"⑧"]

{"sheet":"4団体目","index":3,"n_rows":37,"n_cols":12,"rows_kept":37,"cut":false,"hidden":false,"merged":[[32,11,32,19],[8,2,8,5],[8,6,8,14],[1,1,1,11],[4,2,4,3],[5,2,5,4],[6,2,6,7],[7,2,7,7],[9,2,9,5],[9,6,9,14],[10,7,10,16],[11,1,14,1],[11,2,11,3],[12,2,12,3],[12,4,12,10],[13,2,13,3],[14,2,14,3],[15,1,27,1],[15,2,15,3],[15,4,15,15],[16,2,16,3],[16,4,16,14],[17,2,17,3],[18,2,18,3],[19,2,19,3],[19,4,19,10],[19,11,19,19],[24,2,24,3],[24,4,24,10],[24,11,24,19],[20,2,20,3],[20,4,20,10],[20,11,20,19],[21,2,21,3],[21,4,21,10],[21,11,21,19],[22,2,22,3],[22,4,22,10],[22,11,22,19],[26,11,26,19],[27,11,27,19],[23,2,23,3],[23,7,23,13],[25,2,25,3],[25,4,25,10],[25,11,25,19],[26,2,26,3],[26,4,26,6],[26,7,26,8],[26,9,26,10],[27,2,27,3],[27,4,27,10],[30,2,30,3],[30,5,30,10],[31,2,31,3],[31,5,31,10],[29,11,30,19],[31,11,31,19],[33,11,33,19],[28,1,36,1],[28,2,28,4],[28,5,28,10],[29,2,29,3],[29,5,29,10],[35,2,35,3],[35,5,35,10],[36,2,36,3],[36,5,36,10],[32,2,32,3],[32,5,32,10],[33,2,33,3],[33,5,33,10],[34,2,34,3],[34,5,34,10]]}
[]
[null,"４団体目　\nアンコン申込書入力シート"]
[null,"※色のついている枠にご記入ください。"]
[null,null,null,null,null,null,null,null,null,"〇必要事項を記入したら、下のボタンを押してください"]
[null,"地区",{"$f":"'1団体目'!C5:D5","v":0}]
[null,"部門",{"$f":"'1団体目'!C6:E6","v":0}]
[null,"ふりがな",{"$f":"'1団体目'!C7:H7","v":0}]
[null,"団体名",{"$f":"'1団体目'!C8:H8","v":0}]
[null,"代表者\n（校長）",{"$f":"'1団体目'!C9:F9","v":0},null,null,null,"※大学、職場・一般団体は団体代表者（団長等）を記入してください。\n※姓名の間を全角スペースで１字空けてください。"]
[null,"連絡責任者\n（部顧問）",{"$f":"'1団体目'!C10:F10","v":0},null,null,null,"※大学、職場・一般団体は団体代表者（団長等）を記入してください。\n※姓名の間を全角スペースで１字空けてください。"]
[null,"携帯番号",{"$f":"'1団体目'!C11","v":0},"-",{"$f":"'1団体目'!E11","v":0},"-",{"$f":"'1団体目'!G11","v":0},"※確実に通じる携帯番号を記入ください。"]
[null,"連絡先\n（学校住所）","郵便番号",null,{"$f":"'1団体目'!E12","v":0},"-",{"$f":"'1団体目'!G12","v":0}]
[null,null,"住所",null,{"$f":"'1団体目'!E13:K13","v":0}]
[null,null,"電話番号",null,{"$f":"'1団体目'!E14","v":0},"-",{"$f":"'1団体目'!G14","v":0},"-",{"$f":"'1団体目'!I14","v":0}]
[null,null,"FAX番号",null,{"$f":"'1団体目'!E15","v":0},"-",{"$f":"'1団体目'!G15","v":0},"-",{"$f":"'1団体目'!I15","v":0}]
[null,"演奏形態","編成",null,"※編成名「混合」「混成」は使用しない。「管楽」あるいは「管打」に置き換えてください。"]
[null,null,null,null,"記入例：金管、木管、打楽器、管楽、管打楽器、クラリネット、サクソフォンなど"]
[null,null,"人数"]
[]
[null,null,"曲名\n（邦題名）",null,null,null,null,null,null,null,null,"※組曲の抜粋部分や交響曲の楽章等は､全部必ず明記してください｡→ ･･より“ \"“ \"　\n（例）バレエ組曲「青銅の騎士」より　1.広場での踊り　3.踊りの場面　8.偉大なる都市への賛歌"]
[null,null,"曲名\n（英字）",null,null,null,null,null,null,null,null,"※半角入力をしてください。\n　英字表記は著作権申請時必要となります。必ずご記入ください。"]
[null,null,"作曲者",null,null,null,null,null,null,null,null,"※外国人名はﾌｧｰｽﾄ･ﾈｰﾑの頭文字だけアルファベットで､あとはカタカナで書いてください｡\n（例）S.ラフマニノフ　J.B.チャンス　R.W.スミス"]
[null,null,"作曲者\n（英字）",null,null,null,null,null,null,null,null,"※半角入力をしてください。邦人名はHirokazu Fukushimaなど、名→姓の順で記入してください。\n　英字表記は著作権申請時必要となります。必ずご記入ください。"]
[null,null,"作曲者生没年",null,null,"-",null,"※必ず記入してください。"]
[null,null,"編曲者",null,null,null,null,null,null,null,null,"※外国人名はﾌｧｰｽﾄ･ﾈｰﾑの頭文字だけアルファベットで､あとはカタカナで書いてください｡\n（例）S.ラフマニノフ　J.B.チャンス　R.W.スミス"]
[null,null,"編曲者\n（英字）",null,null,null,null,null,null,null,null,"※半角入力をしてください。邦人名はHirokazu Fukushimaなど、名→姓の順で記入してください。\n　英字表記は著作権申請時必要となります。必ずご記入ください。"]
[null,null,"楽譜出版社",null,null,null,null,"演奏許諾",null,null,null,"※国内出版社はブレーン、ウィンズスコア、カフア、全音など日本語で\n　海外出版社はde haske、C.Alanなど英字で記入してください。"]
[null,null,"許諾先",null,null,null,null,null,null,null,null,"※許諾先は、演奏許諾の欄が「未出版楽譜」のときのみ入力してください"]
[null,"出演者","パート",null,null,"氏名"]
[null,null,"①",null,null,null,null,null,null,null,null,"※パートは、原則としてリストから選んでください。\n　リストにパートがないときのみ、手入力してください。"]
[null,null,"②"]
[null,null,"③",null,null,null,null,null,null,null,null,"※出演者氏名はこの申込書の通りに県大会のプログラムに記載致しますので、\n　漢字の間違い等にご注意ください。"]
[null,null,"④",null,null,null,null,null,null,null,null,"※姓名の間を全角スペースで１字空けてください。"]
[null,null,"⑤",null,null,null,null,null,null,null,null,"※外字を含む名前でも、外字は使用せず、略字で記入してください。"]
[null,null,"⑥"]
[null,null,"⑦"]
[null,null,"⑧"]

{"sheet":"1団体目　アンコン申込書","index":4,"n_rows":45,"n_cols":27,"rows_kept":45,"cut":false,"hidden":false,"merged":[[5,2,5,13],[4,2,4,13],[7,3,7,13],[9,4,9,11],[12,4,12,26],[9,22,9,24],[3,15,5,19],[3,20,5,27],[11,15,11,16],[22,19,22,20],[22,23,22,25],[37,6,37,11],[38,6,38,11],[39,6,39,11],[34,6,34,11],[37,18,37,27],[38,18,38,27],[39,18,39,27],[22,21,22,22],[40,18,40,27],[37,15,37,16],[38,15,38,16],[39,15,39,16],[40,15,40,16],[30,2,30,5],[3,1,5,1],[6,1,8,1],[15,11,15,13],[35,1,44,1],[35,3,35,5],[9,1,10,1],[15,1,16,1],[11,1,13,1],[17,1,34,1],[40,6,40,11],[18,5,18,27],[20,5,20,27],[9,17,9,18],[11,22,11,23],[11,17,11,18]]}
[]
[null,"第４７回山形県アンサンブルコンテスト参加申込書（各地区予選・県大会共通）"]
[null,"※曲名や演奏者の氏名はこの申込書の通りプログラムに掲載されますので正確に記入してください。"]
[null,"団体名\n（学校名）","※読み方も記入下さい",null,null,null,null,null,null,null,null,null,null,null,null,"団体所属\n地区",null,null,null,null,{"$f":"'1団体目'!C5","v":0}]
[null,null,{"$f":"'1団体目'!C7","v":0}]
[null,null,{"$f":"'1団体目'!C8","v":0}]
[null,"代表者\n（校長）"]
[null,null,null,{"$f":"'1団体目'!C9","v":0},null,null,null,null,null,null,null,null,null,null,null,null,null,null,"印"]
[null,null,null,null,null,null,null,null,null,null,null,"※大学、職場・一般団体は団体代表者（団長等）を記入。"]
[null,"連絡責任者\n（部顧問）","氏名",null,{"$f":"'1団体目'!C10","v":0},null,null,null,null,null,null,null,null,null,null,null,"携帯番号(Tel",{"$f":"'1団体目'!C11","v":0},null,"-",{"$f":"'1団体目'!E11","v":0},"-",{"$f":"'1団体目'!G11","v":0},null,null,")"]
[null,null,null,null,null,null,null,null,null,null,null,null,null,"※大学、職場・一般団体は連絡の責任者を記入。"]
[null,"連絡先\n（学校住所）",null,"（〒",{"$f":"'1団体目'!E12","v":0},"-",{"$f":"'1団体目'!G12","v":0},")","（℡",{"$f":"'1団体目'!E14","v":0},"-",{"$f":"'1団体目'!G14","v":0},"-",{"$f":"'1団体目'!I14","v":0},")","（Fax",null,{"$f":"'1団体目'!E15","v":0},null,"-",{"$f":"'1団体目'!G15","v":0},"-",{"$f":"'1団体目'!I15","v":0},null,null,")"]
[null,null,"住所",null,{"$f":"'1団体目'!E13","v":0}]
[null,null,null,null,null,null,null,null,null,"※大学、職場・一般団体については「連絡責任者」の連絡先を記入。"]
[null,"部門",null,{"$f":"IF('1団体目'!$C$6=\"小学校\",\"小学校\",\"\")","v":""},null,null,null,{"$f":"IF('1団体目'!$C$6=\"中学生\",\"中学生\",\"\")","v":""},null,null,{"$f":"IF('1団体目'!$C$6=\"高等学校\",\"高等学校\",\"\")","v":""},null,null,null,{"$f":"IF('1団体目'!$C$6=\"大学\",\"大学\",\"\")","v":""},null,null,null,null,{"$f":"IF('1団体目'!$C$6=\"職場・一般\",\"職場・一般\",\"\")","v":""}]
[null,"演奏形態",null,null,null,null,{"$f":"'1団体目'!C17","v":0},null,null,null,{"$f":"'1団体目'!C19","v":0},{"$f":"'1団体目'!C19","v":0}]
[null,null,"※編成名「混合」「混成」は使用しない。「管楽」あるいは「管打」に置き換えてください。"]
[null,"演奏曲","曲名（邦題名）"]
[null,null,null,null,null,{"$f":"'1団体目'!E20","v":0}]
[null,null,"曲名（英字）"]
[null,null,null,null,null,{"$f":"'1団体目'!E21","v":0}]
[null,null,"※大曲や組曲の部分（楽章・小品）を抜粋する場合は全て記入すること。（例：「　～　」より　・・・　）"]
[null,null,"作曲者",null,null,null,null,{"$f":"'1団体目'!E22","v":0},null,null,null,null,null,null,null,null,null,null,"(生",{"$f":"'1団体目'!$E$24","v":0},null,"-",null,{"$f":"'1団体目'!$G$24","v":0},null,null,"没)"]
[null,null,"作曲者（英字）",null,null,null,null,{"$f":"'1団体目'!E23","v":0}]
[]
[null,null,"編曲者",null,null,null,null,{"$f":"'1団体目'!E25","v":0}]
[null,null,"編曲者（英字）",null,null,null,null,{"$f":"'1団体目'!E26","v":0}]
[null,null,"  ※ 外国の人名はファーストネームの頭文字一字を大文字で記し、後はカタカナで記入。"]
[null,null,"  ※ Spellingは著作権申請時必要となります。必ずご記入ください。"]
[]
[null,null,"楽譜出版社",null,null,null,null,{"$f":"'1団体目'!E27","v":0}]
[null,null,"　※上記の楽曲について、以下のように演奏許諾が得られている。"]
[null,null,{"$f":"IF('1団体目'!$J$27=\"出版・レンタルされている楽譜\",\"〇出版・レンタルされている楽譜で、日本で演奏許諾が得られているものである。\",\"\")","v":""}]
[null,null,{"$f":"IF('1団体目'!$J$27=\"未出版楽譜\",\"〇楽譜が未出版であるが、編曲・演奏許諾を得ているものである。\",\"\")","v":""}]
[null,null,null,{"$f":"IF('1団体目'!$J$27=\"未出版楽譜\",\"許諾先\",\"\")","v":""},null,{"$f":"IF('1団体目'!$J$27=\"未出版楽譜\",\"【\",\"\")","v":""},{"$f":"IF('1団体目'!$J$27=\"未出版楽譜\",'1団体目'!E28,\"\")","v":""},null,null,null,null,null,{"$f":"IF('1団体目'!$J$27=\"未出版楽譜\",\"】\",\"\")","v":""},{"$f":"IF('1団体目'!$J$27=\"未出版楽譜\",\"※許諾書のコピーを各地区事務局に提出すること\",\"\")","v":""}]
[null,"出演者",null,"パート",null,null,"氏名",null,null,null,null,null,null,null,"パート",null,null,null,"氏名"]
[]
[null,null,"①","(",{"$f":"'1団体目'!E30","v":0},")",{"$f":"'1団体目'!F30","v":0},null,null,null,null,null,null,"②","(",{"$f":"'1団体目'!E31","v":0},null,")",{"$f":"'1団体目'!F31","v":0}]
[null,null,"③","(",{"$f":"'1団体目'!E32","v":0},")",{"$f":"'1団体目'!F32","v":0},null,null,null,null,null,null,"④","(",{"$f":"'1団体目'!E33","v":0},null,")",{"$f":"'1団体目'!F33","v":0}]
[null,null,"⑤","(",{"$f":"'1団体目'!E34","v":0},")",{"$f":"'1団体目'!F34","v":0},null,null,null,null,null,null,"⑥","(",{"$f":"'1団体目'!E35","v":0},null,")",{"$f":"'1団体目'!F35","v":0}]
[null,null,"⑦","(",{"$f":"'1団体目'!E36","v":0},")",{"$f":"'1団体目'!F36","v":0},null,null,null,null,null,null,"⑧","(",{"$f":"'1団体目'!E37","v":0},null,")",{"$f":"'1団体目'!F37","v":0}]
[null,null,"※パート名は、Fl. Ob. Fg. Cl. B.Cl. S.Sax. A.Sax.T.Sax. Br.Sax. Tp. Hn. Tb. Euph. Tub. "]
[null,null,null,"St.Bass  Perc.のように記入してください。"]
[null,null,"※出演者氏名はこの申込書の通りに県大会のプログラムに記載致しますので、"]
[null,null,"　漢字の間違い等にご注意ください。"]

{"sheet":"2団体目　アンコン申込書","index":5,"n_rows":45,"n_cols":27,"rows_kept":45,"cut":false,"hidden":false,"merged":[[6,1,8,1],[7,3,7,13],[3,1,5,1],[3,15,5,19],[3,20,5,27],[4,2,4,13],[5,2,5,13],[9,1,10,1],[9,4,9,11],[9,17,9,18],[9,22,9,24],[11,1,13,1],[11,15,11,16],[11,17,11,18],[11,22,11,23],[12,4,12,26],[15,1,16,1],[15,11,15,13],[17,1,34,1],[18,5,18,27],[20,5,20,27],[22,19,22,20],[22,21,22,22],[22,23,22,25],[30,2,30,5],[34,6,34,11],[39,18,39,27],[40,6,40,11],[40,15,40,16],[40,18,40,27],[35,1,44,1],[35,3,35,5],[37,6,37,11],[37,15,37,16],[37,18,37,27],[38,6,38,11],[38,15,38,16],[38,18,38,27],[39,6,39,11],[39,15,39,16]]}
[]
[null,"第４７回山形県アンサンブルコンテスト参加申込書（各地区予選・県大会共通）"]
[null,"※曲名や演奏者の氏名はこの申込書の通りプログラムに掲載されますので正確に記入してください。"]
[null,"団体名\n（学校名）","※読み方も記入下さい",null,null,null,null,null,null,null,null,null,null,null,null,"団体所属\n地区",null,null,null,null,{"$f":"'2団体目'!C5","v":0}]
[null,null,{"$f":"'2団体目'!C7","v":0}]
[null,null,{"$f":"'2団体目'!C8","v":0}]
[null,"代表者\n（校長）"]
[null,null,null,{"$f":"'2団体目'!C9","v":0},null,null,null,null,null,null,null,null,null,null,null,null,null,null,"印"]
[null,null,null,null,null,null,null,null,null,null,null,"※大学、職場・一般団体は団体代表者（団長等）を記入。"]
[null,"連絡責任者\n（部顧問）","氏名",null,{"$f":"'2団体目'!C10","v":0},null,null,null,null,null,null,null,null,null,null,null,"携帯番号(Tel",{"$f":"'2団体目'!C11","v":0},null,"-",{"$f":"'2団体目'!E11","v":0},"-",{"$f":"'2団体目'!G11","v":0},null,null,")"]
[null,null,null,null,null,null,null,null,null,null,null,null,null,"※大学、職場・一般団体は連絡の責任者を記入。"]
[null,"連絡先\n（学校住所）",null,"（〒",{"$f":"'2団体目'!E12","v":0},"-",{"$f":"'2団体目'!G12","v":0},")","（℡",{"$f":"'2団体目'!E14","v":0},"-",{"$f":"'2団体目'!G14","v":0},"-",{"$f":"'2団体目'!I14","v":0},")","（Fax",null,{"$f":"'2団体目'!E15","v":0},null,"-",{"$f":"'2団体目'!G15","v":0},"-",{"$f":"'2団体目'!I15","v":0},null,null,")"]
[null,null,"住所",null,{"$f":"'2団体目'!E13","v":0}]
[null,null,null,null,null,null,null,null,null,"※大学、職場・一般団体については「連絡責任者」の連絡先を記入。"]
[null,"部門",null,{"$f":"IF('2団体目'!$C$6=\"小学校\",\"小学校\",\"\")","v":""},null,null,null,{"$f":"IF('2団体目'!$C$6=\"中学生\",\"中学生\",\"\")","v":""},null,null,{"$f":"IF('2団体目'!$C$6=\"高等学校\",\"高等学校\",\"\")","v":""},null,null,null,{"$f":"IF('2団体目'!$C$6=\"大学\",\"大学\",\"\")","v":""},null,null,null,null,{"$f":"IF('2団体目'!$C$6=\"職場・一般\",\"職場・一般\",\"\")","v":""}]
[null,"演奏形態",null,null,null,null,{"$f":"'2団体目'!C17","v":0},null,null,null,{"$f":"'2団体目'!C19","v":0},{"$f":"'2団体目'!C19","v":0}]
[null,null,"※編成名「混合」「混成」は使用しない。「管楽」あるいは「管打」に置き換えてください。"]
[null,"演奏曲","曲名（邦題名）"]
[null,null,null,null,null,{"$f":"'2団体目'!E20","v":0}]
[null,null,"曲名（英字）"]
[null,null,null,null,null,{"$f":"'2団体目'!E21","v":0}]
[null,null,"※大曲や組曲の部分（楽章・小品）を抜粋する場合は全て記入すること。（例：「　～　」より　・・・　）"]
[null,null,"作曲者",null,null,null,null,{"$f":"'2団体目'!E22","v":0},null,null,null,null,null,null,null,null,null,null,"(生",{"$f":"'2団体目'!$E$24","v":0},null,"-",null,{"$f":"'2団体目'!$G$24","v":0},null,null,"没)"]
[null,null,"作曲者（英字）",null,null,null,null,{"$f":"'2団体目'!E23","v":0}]
[]
[null,null,"編曲者",null,null,null,null,{"$f":"'2団体目'!E25","v":0}]
[null,null,"編曲者（英字）",null,null,null,null,{"$f":"'2団体目'!E26","v":0}]
[null,null,"  ※ 外国の人名はファーストネームの頭文字一字を大文字で記し、後はカタカナで記入。"]
[null,null,"  ※ Spellingは著作権申請時必要となります。必ずご記入ください。"]
[]
[null,null,"楽譜出版社",null,null,null,null,{"$f":"'2団体目'!E27","v":0}]
[null,null,"　※上記の楽曲について、以下のように演奏許諾が得られている。"]
[null,null,{"$f":"IF('2団体目'!$J$27=\"出版・レンタルされている楽譜\",\"〇出版・レンタルされている楽譜で、日本で演奏許諾が得られているものである。\",\"\")","v":""}]
[null,null,{"$f":"IF('2団体目'!$J$27=\"未出版楽譜\",\"〇楽譜が未出版であるが、編曲・演奏許諾を得ているものである。\",\"\")","v":""}]
[null,null,null,{"$f":"IF('2団体目'!$J$27=\"未出版楽譜\",\"許諾先\",\"\")","v":""},null,{"$f":"IF('2団体目'!$J$27=\"未出版楽譜\",\"【\",\"\")","v":""},{"$f":"IF('2団体目'!$J$27=\"未出版楽譜\",'2団体目'!E28,\"\")","v":""},null,null,null,null,null,{"$f":"IF('2団体目'!$J$27=\"未出版楽譜\",\"】\",\"\")","v":""},{"$f":"IF('2団体目'!$J$27=\"未出版楽譜\",\"※許諾書のコピーを各地区事務局に提出すること\",\"\")","v":""}]
[null,"出演者",null,"パート",null,null,"氏名",null,null,null,null,null,null,null,"パート",null,null,null,"氏名"]
[]
[null,null,"①","(",{"$f":"'2団体目'!E30","v":0},")",{"$f":"'2団体目'!F30","v":0},null,null,null,null,null,null,"②","(",{"$f":"'2団体目'!E31","v":0},null,")",{"$f":"'2団体目'!F31","v":0}]
[null,null,"③","(",{"$f":"'2団体目'!E32","v":0},")",{"$f":"'2団体目'!F32","v":0},null,null,null,null,null,null,"④","(",{"$f":"'2団体目'!E33","v":0},null,")",{"$f":"'2団体目'!F33","v":0}]
[null,null,"⑤","(",{"$f":"'2団体目'!E34","v":0},")",{"$f":"'2団体目'!F34","v":0},null,null,null,null,null,null,"⑥","(",{"$f":"'2団体目'!E35","v":0},null,")",{"$f":"'2団体目'!F35","v":0}]
[null,null,"⑦","(",{"$f":"'2団体目'!E36","v":0},")",{"$f":"'2団体目'!F36","v":0},null,null,null,null,null,null,"⑧","(",{"$f":"'2団体目'!E37","v":0},null,")",{"$f":"'2団体目'!F37","v":0}]
[null,null,"※パート名は、Fl. Ob. Fg. Cl. B.Cl. S.Sax. A.Sax.T.Sax. Br.Sax. Tp. Hn. Tb. Euph. Tub. "]
[null,null,null,"St.Bass  Perc.のように記入してください。"]
[null,null,"※出演者氏名はこの申込書の通りに県大会のプログラムに記載致しますので、"]
[null,null,"　漢字の間違い等にご注意ください。"]

{"sheet":"3団体目　アンコン申込書","index":6,"n_rows":45,"n_cols":27,"rows_kept":45,"cut":false,"hidden":false,"merged":[[6,1,8,1],[7,3,7,13],[3,1,5,1],[3,15,5,19],[3,20,5,27],[4,2,4,13],[5,2,5,13],[9,1,10,1],[9,4,9,11],[9,17,9,18],[9,22,9,24],[11,1,13,1],[11,15,11,16],[11,17,11,18],[11,22,11,23],[12,4,12,26],[15,1,16,1],[15,11,15,13],[17,1,34,1],[18,5,18,27],[20,5,20,27],[22,19,22,20],[22,21,22,22],[22,23,22,25],[30,2,30,5],[34,6,34,11],[39,18,39,27],[40,6,40,11],[40,15,40,16],[40,18,40,27],[35,1,44,1],[35,3,35,5],[37,6,37,11],[37,15,37,16],[37,18,37,27],[38,6,38,11],[38,15,38,16],[38,18,38,27],[39,6,39,11],[39,15,39,16]]}
[]
[null,"第４７回山形県アンサンブルコンテスト参加申込書（各地区予選・県大会共通）"]
[null,"※曲名や演奏者の氏名はこの申込書の通りプログラムに掲載されますので正確に記入してください。"]
[null,"団体名\n（学校名）","※読み方も記入下さい",null,null,null,null,null,null,null,null,null,null,null,null,"団体所属\n地区",null,null,null,null,{"$f":"'3団体目'!C5","v":0}]
[null,null,{"$f":"'3団体目'!C7","v":0}]
[null,null,{"$f":"'3団体目'!C8","v":0}]
[null,"代表者\n（校長）"]
[null,null,null,{"$f":"'3団体目'!C9","v":0},null,null,null,null,null,null,null,null,null,null,null,null,null,null,"印"]
[null,null,null,null,null,null,null,null,null,null,null,"※大学、職場・一般団体は団体代表者（団長等）を記入。"]
[null,"連絡責任者\n（部顧問）","氏名",null,{"$f":"'3団体目'!C10","v":0},null,null,null,null,null,null,null,null,null,null,null,"携帯番号(Tel",{"$f":"'3団体目'!C11","v":0},null,"-",{"$f":"'3団体目'!E11","v":0},"-",{"$f":"'3団体目'!G11","v":0},null,null,")"]
[null,null,null,null,null,null,null,null,null,null,null,null,null,"※大学、職場・一般団体は連絡の責任者を記入。"]
[null,"連絡先\n（学校住所）",null,"（〒",{"$f":"'3団体目'!E12","v":0},"-",{"$f":"'3団体目'!G12","v":0},")","（℡",{"$f":"'3団体目'!E14","v":0},"-",{"$f":"'3団体目'!G14","v":0},"-",{"$f":"'3団体目'!I14","v":0},")","（Fax",null,{"$f":"'3団体目'!E15","v":0},null,"-",{"$f":"'3団体目'!G15","v":0},"-",{"$f":"'3団体目'!I15","v":0},null,null,")"]
[null,null,"住所",null,{"$f":"'3団体目'!E13","v":0}]
[null,null,null,null,null,null,null,null,null,"※大学、職場・一般団体については「連絡責任者」の連絡先を記入。"]
[null,"部門",null,{"$f":"IF('3団体目'!$C$6=\"小学校\",\"小学校\",\"\")","v":""},null,null,null,{"$f":"IF('3団体目'!$C$6=\"中学生\",\"中学生\",\"\")","v":""},null,null,{"$f":"IF('3団体目'!$C$6=\"高等学校\",\"高等学校\",\"\")","v":""},null,null,null,{"$f":"IF('3団体目'!$C$6=\"大学\",\"大学\",\"\")","v":""},null,null,null,null,{"$f":"IF('3団体目'!$C$6=\"職場・一般\",\"職場・一般\",\"\")","v":""}]
[null,"演奏形態",null,null,null,null,{"$f":"'3団体目'!C17","v":0},null,null,null,{"$f":"'3団体目'!C19","v":0},{"$f":"'3団体目'!C19","v":0}]
[null,null,"※編成名「混合」「混成」は使用しない。「管楽」あるいは「管打」に置き換えてください。"]
[null,"演奏曲","曲名（邦題名）"]
[null,null,null,null,null,{"$f":"'3団体目'!E20","v":0}]
[null,null,"曲名（英字）"]
[null,null,null,null,null,{"$f":"'3団体目'!E21","v":0}]
[null,null,"※大曲や組曲の部分（楽章・小品）を抜粋する場合は全て記入すること。（例：「　～　」より　・・・　）"]
[null,null,"作曲者",null,null,null,null,{"$f":"'3団体目'!E22","v":0},null,null,null,null,null,null,null,null,null,null,"(生",{"$f":"'3団体目'!$E$24","v":0},null,"-",null,{"$f":"'3団体目'!$G$24","v":0},null,null,"没)"]
[null,null,"作曲者（英字）",null,null,null,null,{"$f":"'3団体目'!E23","v":0}]
[]
[null,null,"編曲者",null,null,null,null,{"$f":"'3団体目'!E25","v":0}]
[null,null,"編曲者（英字）",null,null,null,null,{"$f":"'3団体目'!E26","v":0}]
[null,null,"  ※ 外国の人名はファーストネームの頭文字一字を大文字で記し、後はカタカナで記入。"]
[null,null,"  ※ Spellingは著作権申請時必要となります。必ずご記入ください。"]
[]
[null,null,"楽譜出版社",null,null,null,null,{"$f":"'3団体目'!E27","v":0}]
[null,null,"　※上記の楽曲について、以下のように演奏許諾が得られている。"]
[null,null,{"$f":"IF('3団体目'!$J$27=\"出版・レンタルされている楽譜\",\"〇出版・レンタルされている楽譜で、日本で演奏許諾が得られているものである。\",\"\")","v":""}]
[null,null,{"$f":"IF('3団体目'!$J$27=\"未出版楽譜\",\"〇楽譜が未出版であるが、編曲・演奏許諾を得ているものである。\",\"\")","v":""}]
[null,null,null,{"$f":"IF('3団体目'!$J$27=\"未出版楽譜\",\"許諾先\",\"\")","v":""},null,{"$f":"IF('3団体目'!$J$27=\"未出版楽譜\",\"【\",\"\")","v":""},{"$f":"IF('3団体目'!$J$27=\"未出版楽譜\",'3団体目'!E28,\"\")","v":""},null,null,null,null,null,{"$f":"IF('3団体目'!$J$27=\"未出版楽譜\",\"】\",\"\")","v":""},{"$f":"IF('3団体目'!$J$27=\"未出版楽譜\",\"※許諾書のコピーを各地区事務局に提出すること\",\"\")","v":""}]
[null,"出演者",null,"パート",null,null,"氏名",null,null,null,null,null,null,null,"パート",null,null,null,"氏名"]
[]
[null,null,"①","(",{"$f":"'3団体目'!E30","v":0},")",{"$f":"'3団体目'!F30","v":0},null,null,null,null,null,null,"②","(",{"$f":"'3団体目'!E31","v":0},null,")",{"$f":"'3団体目'!F31","v":0}]
[null,null,"③","(",{"$f":"'3団体目'!E32","v":0},")",{"$f":"'3団体目'!F32","v":0},null,null,null,null,null,null,"④","(",{"$f":"'3団体目'!E33","v":0},null,")",{"$f":"'3団体目'!F33","v":0}]
[null,null,"⑤","(",{"$f":"'3団体目'!E34","v":0},")",{"$f":"'3団体目'!F34","v":0},null,null,null,null,null,null,"⑥","(",{"$f":"'3団体目'!E35","v":0},null,")",{"$f":"'3団体目'!F35","v":0}]
[null,null,"⑦","(",{"$f":"'3団体目'!E36","v":0},")",{"$f":"'3団体目'!F36","v":0},null,null,null,null,null,null,"⑧","(",{"$f":"'3団体目'!E37","v":0},null,")",{"$f":"'3団体目'!F37","v":0}]
[null,null,"※パート名は、Fl. Ob. Fg. Cl. B.Cl. S.Sax. A.Sax.T.Sax. Br.Sax. Tp. Hn. Tb. Euph. Tub. "]
[null,null,null,"St.Bass  Perc.のように記入してください。"]
[null,null,"※出演者氏名はこの申込書の通りに県大会のプログラムに記載致しますので、"]
[null,null,"　漢字の間違い等にご注意ください。"]

{"sheet":"4団体目　アンコン申込書","index":7,"n_rows":45,"n_cols":27,"rows_kept":45,"cut":false,"hidden":false,"merged":[[6,1,8,1],[7,3,7,13],[3,1,5,1],[3,15,5,19],[3,20,5,27],[4,2,4,13],[5,2,5,13],[9,1,10,1],[9,4,9,11],[9,17,9,18],[9,22,9,24],[11,1,13,1],[11,15,11,16],[11,17,11,18],[11,22,11,23],[12,4,12,26],[15,1,16,1],[15,11,15,13],[17,1,34,1],[18,5,18,27],[20,5,20,27],[22,19,22,20],[22,21,22,22],[22,23,22,25],[30,2,30,5],[34,6,34,11],[39,18,39,27],[40,6,40,11],[40,15,40,16],[40,18,40,27],[35,1,44,1],[35,3,35,5],[37,6,37,11],[37,15,37,16],[37,18,37,27],[38,6,38,11],[38,15,38,16],[38,18,38,27],[39,6,39,11],[39,15,39,16]]}
[]
[null,"第４７回山形県アンサンブルコンテスト参加申込書（各地区予選・県大会共通）"]
[null,"※曲名や演奏者の氏名はこの申込書の通りプログラムに掲載されますので正確に記入してください。"]
[null,"団体名\n（学校名）","※読み方も記入下さい",null,null,null,null,null,null,null,null,null,null,null,null,"団体所属\n地区",null,null,null,null,{"$f":"'4団体目'!C5","v":0}]
[null,null,{"$f":"'4団体目'!C7","v":0}]
[null,null,{"$f":"'4団体目'!C8","v":0}]
[null,"代表者\n（校長）"]
[null,null,null,{"$f":"'4団体目'!C9","v":0},null,null,null,null,null,null,null,null,null,null,null,null,null,null,"印"]
[null,null,null,null,null,null,null,null,null,null,null,"※大学、職場・一般団体は団体代表者（団長等）を記入。"]
[null,"連絡責任者\n（部顧問）","氏名",null,{"$f":"'4団体目'!C10","v":0},null,null,null,null,null,null,null,null,null,null,null,"携帯番号(Tel",{"$f":"'4団体目'!C11","v":0},null,"-",{"$f":"'4団体目'!E11","v":0},"-",{"$f":"'4団体目'!G11","v":0},null,null,")"]
[null,null,null,null,null,null,null,null,null,null,null,null,null,"※大学、職場・一般団体は連絡の責任者を記入。"]
[null,"連絡先\n（学校住所）",null,"（〒",{"$f":"'4団体目'!E12","v":0},"-",{"$f":"'4団体目'!G12","v":0},")","（℡",{"$f":"'4団体目'!E14","v":0},"-",{"$f":"'4団体目'!G14","v":0},"-",{"$f":"'4団体目'!I14","v":0},")","（Fax",null,{"$f":"'4団体目'!E15","v":0},null,"-",{"$f":"'4団体目'!G15","v":0},"-",{"$f":"'4団体目'!I15","v":0},null,null,")"]
[null,null,"住所",null,{"$f":"'4団体目'!E13","v":0}]
[null,null,null,null,null,null,null,null,null,"※大学、職場・一般団体については「連絡責任者」の連絡先を記入。"]
[null,"部門",null,{"$f":"IF('4団体目'!$C$6=\"小学校\",\"小学校\",\"\")","v":""},null,null,null,{"$f":"IF('4団体目'!$C$6=\"中学生\",\"中学生\",\"\")","v":""},null,null,{"$f":"IF('4団体目'!$C$6=\"高等学校\",\"高等学校\",\"\")","v":""},null,null,null,{"$f":"IF('4団体目'!$C$6=\"大学\",\"大学\",\"\")","v":""},null,null,null,null,{"$f":"IF('4団体目'!$C$6=\"職場・一般\",\"職場・一般\",\"\")","v":""}]
[null,"演奏形態",null,null,null,null,{"$f":"'4団体目'!C17","v":0},null,null,null,{"$f":"'4団体目'!C19","v":0},{"$f":"'4団体目'!C19","v":0}]
[null,null,"※編成名「混合」「混成」は使用しない。「管楽」あるいは「管打」に置き換えてください。"]
[null,"演奏曲","曲名（邦題名）"]
[null,null,null,null,null,{"$f":"'4団体目'!E20","v":0}]
[null,null,"曲名（英字）"]
[null,null,null,null,null,{"$f":"'4団体目'!E21","v":0}]
[null,null,"※大曲や組曲の部分（楽章・小品）を抜粋する場合は全て記入すること。（例：「　～　」より　・・・　）"]
[null,null,"作曲者",null,null,null,null,{"$f":"'4団体目'!E22","v":0},null,null,null,null,null,null,null,null,null,null,"(生",{"$f":"'4団体目'!$E$24","v":0},null,"-",null,{"$f":"'4団体目'!$G$24","v":0},null,null,"没)"]
[null,null,"作曲者（英字）",null,null,null,null,{"$f":"'4団体目'!E23","v":0}]
[]
[null,null,"編曲者",null,null,null,null,{"$f":"'4団体目'!E25","v":0}]
[null,null,"編曲者（英字）",null,null,null,null,{"$f":"'4団体目'!E26","v":0}]
[null,null,"  ※ 外国の人名はファーストネームの頭文字一字を大文字で記し、後はカタカナで記入。"]
[null,null,"  ※ Spellingは著作権申請時必要となります。必ずご記入ください。"]
[]
[null,null,"楽譜出版社",null,null,null,null,{"$f":"'4団体目'!E27","v":0}]
[null,null,"　※上記の楽曲について、以下のように演奏許諾が得られている。"]
[null,null,{"$f":"IF('4団体目'!$J$27=\"出版・レンタルされている楽譜\",\"〇出版・レンタルされている楽譜で、日本で演奏許諾が得られているものである。\",\"\")","v":""}]
[null,null,{"$f":"IF('4団体目'!$J$27=\"未出版楽譜\",\"〇楽譜が未出版であるが、編曲・演奏許諾を得ているものである。\",\"\")","v":""}]
[null,null,null,{"$f":"IF('4団体目'!$J$27=\"未出版楽譜\",\"許諾先\",\"\")","v":""},null,{"$f":"IF('4団体目'!$J$27=\"未出版楽譜\",\"【\",\"\")","v":""},{"$f":"IF('4団体目'!$J$27=\"未出版楽譜\",'4団体目'!E28,\"\")","v":""},null,null,null,null,null,{"$f":"IF('4団体目'!$J$27=\"未出版楽譜\",\"】\",\"\")","v":""},{"$f":"IF('4団体目'!$J$27=\"未出版楽譜\",\"※許諾書のコピーを各地区事務局に提出すること\",\"\")","v":""}]
[null,"出演者",null,"パート",null,null,"氏名",null,null,null,null,null,null,null,"パート",null,null,null,"氏名"]
[]
[null,null,"①","(",{"$f":"'4団体目'!E30","v":0},")",{"$f":"'4団体目'!F30","v":0},null,null,null,null,null,null,"②","(",{"$f":"'4団体目'!E31","v":0},null,")",{"$f":"'4団体目'!F31","v":0}]
[null,null,"③","(",{"$f":"'4団体目'!E32","v":0},")",{"$f":"'4団体目'!F32","v":0},null,null,null,null,null,null,"④","(",{"$f":"'4団体目'!E33","v":0},null,")",{"$f":"'4団体目'!F33","v":0}]
[null,null,"⑤","(",{"$f":"'4団体目'!E34","v":0},")",{"$f":"'4団体目'!F34","v":0},null,null,null,null,null,null,"⑥","(",{"$f":"'4団体目'!E35","v":0},null,")",{"$f":"'4団体目'!F35","v":0}]
[null,null,"⑦","(",{"$f":"'4団体目'!E36","v":0},")",{"$f":"'4団体目'!F36","v":0},null,null,null,null,null,null,"⑧","(",{"$f":"'4団体目'!E37","v":0},null,")",{"$f":"'4団体目'!F37","v":0}]
[null,null,"※パート名は、Fl. Ob. Fg. Cl. B.Cl. S.Sax. A.Sax.T.Sax. Br.Sax. Tp. Hn. Tb. Euph. Tub. "]
[null,null,null,"St.Bass  Perc.のように記入してください。"]
[null,null,"※出演者氏名はこの申込書の通りに県大会のプログラムに記載致しますので、"]
[null,null,"　漢字の間違い等にご注意ください。"]